BEGIN:VCALENDAR
VERSION:2.0
PRODID:-//labri.fr//NONSGML kigkonsult.se iCalcreator 2.41.92//
CALSCALE:GREGORIAN
METHOD:PUBLISH
UID:0f1f061c-7784-4617-bd26-28c03a6e78eb
X-WR-CALNAME:SCRIME : 20 ANS de Recherche et de Création
X-WR-TIMEZONE:Europe/Paris
BEGIN:VTIMEZONE
TZID:Europe/Paris
TZUNTIL:20240331T010000Z
BEGIN:STANDARD
TZNAME:CET
DTSTART:20211031T030000
TZOFFSETFROM:+0200
TZOFFSETTO:+0100
RDATE:20221030T030000
RDATE:20231029T030000
END:STANDARD
BEGIN:DAYLIGHT
TZNAME:CEST
DTSTART:20220327T020000
TZOFFSETFROM:+0100
TZOFFSETTO:+0200
RDATE:20230326T020000
END:DAYLIGHT
END:VTIMEZONE
BEGIN:VEVENT
UID:0f1f061c-7784-4617-bd26-28c03a6e78eb
DTSTAMP:20260425T164043Z
CLASS:PUBLIC
DESCRIPTION:Le SCRIME célèbre cette année 20 ans de partenariat Arts &amp\;
  Sciences entre l’Université de Bordeaux\, l’ENSEIRB et le Conservatoire à
  Rayonnement Régional Jacques Thibaud (Mairie de Bordeaux).\n\n« La préhis
 toire du SCRIME » : premier volet de la série d’événements organisés dans 
 le cadre du festival des 20 ans du SCRIME\, mardi 17 mai\, salle Hémicycli
 a\, de 19h à 20h.
DTSTART;TZID=Europe/Paris:20220517T190000
DTEND;TZID=Europe/Paris:20220517T200000
LOCATION:
SEQUENCE:0
SUMMARY:SCRIME : 20 ANS de Recherche et de Création
TRANSP:OPAQUE
END:VEVENT
END:VCALENDAR
