BEGIN:VCALENDAR
VERSION:2.0
PRODID:-//labri.fr//NONSGML kigkonsult.se iCalcreator 2.41.92//
CALSCALE:GREGORIAN
METHOD:PUBLISH
UID:c6ee3b9c-705e-4c9a-8d80-ef0a53905e97
X-WR-CALNAME:Thèse de Varun Ramanathan : «Relations synchronisées : caracté
 risation logique et complexité de l’évaluation des requêtes»
X-WR-TIMEZONE:Europe/Paris
BEGIN:VTIMEZONE
TZID:Europe/Paris
TZUNTIL:20240331T010000Z
BEGIN:STANDARD
TZNAME:CET
DTSTART:20211031T030000
TZOFFSETFROM:+0200
TZOFFSETTO:+0100
RDATE:20221030T030000
RDATE:20231029T030000
END:STANDARD
BEGIN:DAYLIGHT
TZNAME:CEST
DTSTART:20220327T020000
TZOFFSETFROM:+0100
TZOFFSETTO:+0200
RDATE:20230326T020000
END:DAYLIGHT
END:VTIMEZONE
BEGIN:VEVENT
UID:c6ee3b9c-705e-4c9a-8d80-ef0a53905e97
DTSTAMP:20260425T182008Z
CLASS:PUBLIC
DESCRIPTION:Varun Ramanathan soutiendra sa thèse intitulée : «Relations syn
 chronisées : caractérisation logique et complexité de l’évaluation des req
 uêtes»\n
DTSTART;TZID=Europe/Paris:20220517T110000
DTEND;TZID=Europe/Paris:20220517T150000
LOCATION:Amphi LaBRI
ORGANIZER;CN=Pascal Weil:mailto:pascal.weil@labri.fr
SEQUENCE:0
SUMMARY:Thèse de Varun Ramanathan : «Relations synchronisées : caractérisat
 ion logique et complexité de l’évaluation des requêtes»
TRANSP:OPAQUE
END:VEVENT
END:VCALENDAR
