BEGIN:VCALENDAR
VERSION:2.0
PRODID:-//labri.fr//NONSGML kigkonsult.se iCalcreator 2.41.92//
CALSCALE:GREGORIAN
METHOD:PUBLISH
UID:31ba463b-7111-4c13-b6fa-e018a333b8e5
X-WR-CALNAME:Thèse de Vincent Martin : «Nouveaux biomarqueurs vocaux pour l
 a détection automatique de la somnolence»
X-WR-TIMEZONE:Europe/Paris
BEGIN:VTIMEZONE
TZID:Europe/Paris
TZUNTIL:20240331T010000Z
BEGIN:STANDARD
TZNAME:CET
DTSTART:20211031T030000
TZOFFSETFROM:+0200
TZOFFSETTO:+0100
RDATE:20221030T030000
RDATE:20231029T030000
END:STANDARD
BEGIN:DAYLIGHT
TZNAME:CEST
DTSTART:20220327T020000
TZOFFSETFROM:+0100
TZOFFSETTO:+0200
RDATE:20230326T020000
END:DAYLIGHT
END:VTIMEZONE
BEGIN:VEVENT
UID:31ba463b-7111-4c13-b6fa-e018a333b8e5
DTSTAMP:20260425T164101Z
CLASS:PUBLIC
DESCRIPTION:Vincent Martin soutiendra sa thèse intitulée : «Nouveaux biomar
 queurs vocaux pour la détection automatique de la somnolence»\n
DTSTART;TZID=Europe/Paris:20220608T140000
DTEND;TZID=Europe/Paris:20220608T180000
LOCATION:Amphi IMS (Bât A31)
ORGANIZER;CN=Jean-Luc Rouas:mailto:jean-luc.rouas@labri.fr
SEQUENCE:0
SUMMARY:Thèse de Vincent Martin : «Nouveaux biomarqueurs vocaux pour la dét
 ection automatique de la somnolence»
TRANSP:OPAQUE
END:VEVENT
END:VCALENDAR
