BEGIN:VCALENDAR
VERSION:2.0
PRODID:-//labri.fr//NONSGML kigkonsult.se iCalcreator 2.41.92//
CALSCALE:GREGORIAN
METHOD:PUBLISH
UID:5301cbe9-8f78-4a42-9736-9fb6def200ba
X-WR-CALNAME:Leçons de Mathématiques et d'Informatique d'Aujourd'hui - Eric
  Rivals
X-WR-TIMEZONE:Europe/Paris
BEGIN:VTIMEZONE
TZID:Europe/Paris
TZUNTIL:20231029T010000Z
BEGIN:STANDARD
TZNAME:CET
DTSTART:20211031T030000
TZOFFSETFROM:+0200
TZOFFSETTO:+0100
RDATE:20221030T030000
END:STANDARD
BEGIN:DAYLIGHT
TZNAME:CEST
DTSTART:20220327T020000
TZOFFSETFROM:+0100
TZOFFSETTO:+0200
RDATE:20230326T020000
END:DAYLIGHT
END:VTIMEZONE
BEGIN:VEVENT
UID:5301cbe9-8f78-4a42-9736-9fb6def200ba
DTSTAMP:20260425T182003Z
CLASS:PUBLIC
DESCRIPTION:Superchaînes: des chevauchements entre mots aux&nbsp\; graphes 
 d'assemblage.\n\nEric Rivals - LIRMM\, CNRS\, Univ. Montpellier\nhttps://w
 ww.lirmm.fr/~rivals/
DTSTART;TZID=Europe/Paris:20220414T160000
DTEND;TZID=Europe/Paris:20220414T180000
LOCATION:amphi B\, A29
SEQUENCE:0
SUMMARY:Leçons de Mathématiques et d'Informatique d'Aujourd'hui - Eric Riva
 ls
TRANSP:OPAQUE
END:VEVENT
END:VCALENDAR
