BEGIN:VCALENDAR
VERSION:2.0
PRODID:-//labri.fr//NONSGML kigkonsult.se iCalcreator 2.41.92//
CALSCALE:GREGORIAN
METHOD:PUBLISH
UID:3c567278-4c3a-4fef-bfba-9dcf9c0b3f59
X-WR-CALNAME:Soutenance de thèse d'Antoine Billy
X-WR-TIMEZONE:Europe/Paris
BEGIN:VTIMEZONE
TZID:Europe/Paris
TZUNTIL:20221030T010000Z
BEGIN:STANDARD
TZNAME:CET
DTSTART:20201025T030000
TZOFFSETFROM:+0200
TZOFFSETTO:+0100
RDATE:20211031T030000
END:STANDARD
BEGIN:DAYLIGHT
TZNAME:CEST
DTSTART:20200329T020000
TZOFFSETFROM:+0100
TZOFFSETTO:+0200
RDATE:20210328T020000
RDATE:20220327T020000
END:DAYLIGHT
END:VTIMEZONE
BEGIN:VEVENT
UID:3c567278-4c3a-4fef-bfba-9dcf9c0b3f59
DTSTAMP:20260425T151850Z
CLASS:PUBLIC
DESCRIPTION:Antoine Billy soutiendra sa thèse intitulée : « Imagerie multim
 odale 3D+ pour drone : application à l’évaluation de l’état phytosanitaire
  de la vigne »\n
DTSTART;TZID=Europe/Paris:20201217T090000
DTEND;TZID=Europe/Paris:20201217T190000
LOCATION:LaBRI (Visioconférence)
ORGANIZER;CN=Pascal Desbarats:mailto:pascal.desbarats@labri.fr
SEQUENCE:0
SUMMARY:Soutenance de thèse d'Antoine Billy
TRANSP:OPAQUE
END:VEVENT
END:VCALENDAR
