BEGIN:VCALENDAR
VERSION:2.0
PRODID:-//labri.fr//NONSGML kigkonsult.se iCalcreator 2.41.92//
CALSCALE:GREGORIAN
METHOD:PUBLISH
UID:689a3d4c-f8cd-4598-91d1-c6020504d26d
X-WR-CALNAME:Séminaire bio-numérique (Mathieu Raffinot)
X-WR-TIMEZONE:Europe/Paris
BEGIN:VTIMEZONE
TZID:Europe/Paris
TZUNTIL:20231029T010000Z
BEGIN:STANDARD
TZNAME:CET
DTSTART:20211031T030000
TZOFFSETFROM:+0200
TZOFFSETTO:+0100
RDATE:20221030T030000
END:STANDARD
BEGIN:DAYLIGHT
TZNAME:CEST
DTSTART:20210328T020000
TZOFFSETFROM:+0100
TZOFFSETTO:+0200
RDATE:20220327T020000
RDATE:20230326T020000
END:DAYLIGHT
END:VTIMEZONE
BEGIN:VEVENT
UID:689a3d4c-f8cd-4598-91d1-c6020504d26d
DTSTAMP:20260425T164043Z
CLASS:PUBLIC
DESCRIPTION:Orateur : Mathieu Raffinot CR CNRS\n\nTitre : Algorithme BNDM\n
 &nbsp\;
DTSTART;TZID=Europe/Paris:20220310T100000
DTEND;TZID=Europe/Paris:20220310T110000
LOCATION:salle 178\, LaBRI
SEQUENCE:0
SUMMARY:Séminaire bio-numérique (Mathieu Raffinot)
TRANSP:OPAQUE
END:VEVENT
END:VCALENDAR
