BEGIN:VCALENDAR
VERSION:2.0
PRODID:-//labri.fr//NONSGML kigkonsult.se iCalcreator 2.41.92//
CALSCALE:GREGORIAN
METHOD:PUBLISH
UID:d9adc090-33d7-41b2-9734-caa8708183ba
X-WR-CALNAME:[DART] R4
X-WR-TIMEZONE:Europe/Paris
BEGIN:VTIMEZONE
TZID:Europe/Paris
TZUNTIL:20230326T010000Z
BEGIN:STANDARD
TZNAME:CET
DTSTART:20201025T030000
TZOFFSETFROM:+0200
TZOFFSETTO:+0100
RDATE:20211031T030000
RDATE:20221030T030000
END:STANDARD
BEGIN:DAYLIGHT
TZNAME:CEST
DTSTART:20210328T020000
TZOFFSETFROM:+0100
TZOFFSETTO:+0200
RDATE:20220327T020000
END:DAYLIGHT
END:VTIMEZONE
BEGIN:VEVENT
UID:d9adc090-33d7-41b2-9734-caa8708183ba
DTSTAMP:20260425T174250Z
CLASS:PUBLIC
DESCRIPTION:Robotique en milieu ouvert à l'ONERA : Des plates-formes de rec
 herche ouvertes illustrées à travers des travaux en cours.\nPhilippe Bidau
 d\nVisio: https://u-bordeaux-fr.zoom.us/j/83483228567\n\n\nhttps://r4-robo
 tique.fr
DTSTART;TZID=Europe/Paris:20210621T130000
DTEND;TZID=Europe/Paris:20210621T140000
LOCATION:Remote
SEQUENCE:0
SUMMARY:[DART] R4
TRANSP:OPAQUE
END:VEVENT
END:VCALENDAR
