BEGIN:VCALENDAR
VERSION:2.0
PRODID:-//labri.fr//NONSGML kigkonsult.se iCalcreator 2.41.92//
CALSCALE:GREGORIAN
METHOD:PUBLISH
UID:950d8dcb-cafe-4dae-b593-a23f5e8007a5
X-WR-CALNAME:Soutenance de thèse de Pierre-Etienne Martin
X-WR-TIMEZONE:Europe/Paris
BEGIN:VTIMEZONE
TZID:Europe/Paris
TZUNTIL:20221030T010000Z
BEGIN:STANDARD
TZNAME:CET
DTSTART:20201025T030000
TZOFFSETFROM:+0200
TZOFFSETTO:+0100
RDATE:20211031T030000
END:STANDARD
BEGIN:DAYLIGHT
TZNAME:CEST
DTSTART:20200329T020000
TZOFFSETFROM:+0100
TZOFFSETTO:+0200
RDATE:20210328T020000
RDATE:20220327T020000
END:DAYLIGHT
END:VTIMEZONE
BEGIN:VEVENT
UID:950d8dcb-cafe-4dae-b593-a23f5e8007a5
DTSTAMP:20260425T150634Z
CLASS:PUBLIC
DESCRIPTION:Pierre-Etienne Martin soutiendra sa thèse intitulée : « Détecti
 on et classification fines d'actions à partir de vidéos par réseaux de neu
 rones à convolutions spatio-temporelles. Application au tennis de table. »
 \n
DTSTART;TZID=Europe/Paris:20201218T090000
DTEND;TZID=Europe/Paris:20201218T190000
LOCATION:LaBRI
ORGANIZER;CN=Jenny Benois-Pineau:mailto:benois-p@labri.fr
SEQUENCE:0
SUMMARY:Soutenance de thèse de Pierre-Etienne Martin
TRANSP:OPAQUE
END:VEVENT
END:VCALENDAR
