BEGIN:VCALENDAR
VERSION:2.0
PRODID:-//labri.fr//NONSGML kigkonsult.se iCalcreator 2.41.92//
CALSCALE:GREGORIAN
METHOD:PUBLISH
UID:3b0237d1-a9a7-498d-847e-e69cb2fba78f
X-WR-CALNAME:Soutenance de thèse de Chahrazed Ksouri (en cotutelle avec l’U
 niversité de Sfax - Tunisie)
X-WR-TIMEZONE:Europe/Paris
BEGIN:VTIMEZONE
TZID:Europe/Paris
TZUNTIL:20221030T010000Z
BEGIN:STANDARD
TZNAME:CET
DTSTART:20201025T030000
TZOFFSETFROM:+0200
TZOFFSETTO:+0100
RDATE:20211031T030000
END:STANDARD
BEGIN:DAYLIGHT
TZNAME:CEST
DTSTART:20200329T020000
TZOFFSETFROM:+0100
TZOFFSETTO:+0200
RDATE:20210328T020000
RDATE:20220327T020000
END:DAYLIGHT
END:VTIMEZONE
BEGIN:VEVENT
UID:3b0237d1-a9a7-498d-847e-e69cb2fba78f
DTSTAMP:20260425T163957Z
CLASS:PUBLIC
DESCRIPTION:Chahrazed Ksouri soutiendra sa thèse intitulée : « Mobilité int
 elligente et routage dans l’Internet des véhicules basé sur une infrastruc
 ture intermittente »\n
DTSTART;TZID=Europe/Paris:20201217T090000
DTEND;TZID=Europe/Paris:20201217T190000
LOCATION:IMS (Bât A31)
ORGANIZER;CN=Mohamed Mosbah:mailto:mohamed.mosbah@labri.fr
SEQUENCE:0
SUMMARY:Soutenance de thèse de Chahrazed Ksouri (en cotutelle avec l’Univer
 sité de Sfax - Tunisie)
TRANSP:OPAQUE
END:VEVENT
END:VCALENDAR
