BEGIN:VCALENDAR
VERSION:2.0
PRODID:-//labri.fr//NONSGML kigkonsult.se iCalcreator 2.41.92//
CALSCALE:GREGORIAN
METHOD:PUBLISH
UID:0668035b-560c-41ca-9bea-706f2e2acbf0
X-WR-CALNAME:[gt.go] - Soutenance HDR de Marthe Bonamy - 'Autour du théorèm
 e des quatre couleurs'
X-WR-TIMEZONE:Europe/Paris
BEGIN:VTIMEZONE
TZID:Europe/Paris
TZUNTIL:20260329T010000Z
BEGIN:STANDARD
TZNAME:CET
DTSTART:20231029T030000
TZOFFSETFROM:+0200
TZOFFSETTO:+0100
RDATE:20241027T030000
RDATE:20251026T030000
END:STANDARD
BEGIN:DAYLIGHT
TZNAME:CEST
DTSTART:20240331T020000
TZOFFSETFROM:+0100
TZOFFSETTO:+0200
RDATE:20250330T020000
END:DAYLIGHT
END:VTIMEZONE
BEGIN:VEVENT
UID:0668035b-560c-41ca-9bea-706f2e2acbf0
DTSTAMP:20260425T163933Z
CLASS:PUBLIC
DESCRIPTION:/Soutenance d'HDR/ \n/Présentation en français/P resentation in
  French/ \n\nMarthe Bonamy soutiendra son HDR en français sur le sujet 'Au
 tour du théorème des quatre couleurs'\, devant un jury composé de : \n\n* 
 Marie Albenque\, Directrice de Recherche\, CNRS\, Université Paris Cité\, 
 Examinatrice \n* Stéphane Bessy\, Professeur\, Université de Montpellier\,
  Président \n* Meghyn Bienvenu\, Directrice de Recherche\, CNRS\, Universi
 té de Bordeaux\, Examinatrice (en visio) \n* Victor Chepoi\, Professeur\, 
 Université d’Aix-Marseille\, Examinateur (en visio) \n* Nicolas Trotignon\
 , Directeur de Recherche\, CNRS\, ENS de Lyon\, Rapporteur \n\nSur avis de
 s rapporteurs absents : \n\n* Zdeněk Dvořák\, Professor\, Charles Universi
 ty \n* Maya Stein\, Professeur\, Universidad de Chili \n\n\n[ Marthe Bonam
 y] (CNRS\, LaBRI ) \nhttps://www.labri.fr/perso/mbonamy/ \n\nRemarks / Rem
 arques \n\nFind all the information of the working group on this [ https:/
 /graphesetoptimisation.labri.fr/pmwiki.php/Groupe/GT?userlang=en | web pag
 e ] . \nRetrouvez toutes les informations du GT sur cette [ https://graphe
 setoptimisation.labri.fr/pmwiki.php/Groupe/GT | page web ] .
DTSTART;TZID=Europe/Paris:20240701T130000
DTEND;TZID=Europe/Paris:20240701T153000
LOCATION:Amphi du LaBRI (bât A30) et https://u-bordeaux-fr.zoom.us/j/868644
 4356
SEQUENCE:0
SUMMARY:[gt.go] - Soutenance HDR de Marthe Bonamy - 'Autour du théorème des
  quatre couleurs'
TRANSP:OPAQUE
END:VEVENT
END:VCALENDAR
