BEGIN:VCALENDAR
VERSION:2.0
PRODID:-//labri.fr//NONSGML kigkonsult.se iCalcreator 2.41.92//
CALSCALE:GREGORIAN
METHOD:PUBLISH
UID:3aa4b0cb-27da-4822-8ea5-c14589d4f15c
X-WR-CALNAME:[gt-iq] Ravzan Barbulescu
X-WR-TIMEZONE:Europe/Paris
BEGIN:VTIMEZONE
TZID:Europe/Paris
TZUNTIL:20251026T010000Z
BEGIN:STANDARD
TZNAME:CET
DTSTART:20221030T030000
TZOFFSETFROM:+0200
TZOFFSETTO:+0100
RDATE:20231029T030000
RDATE:20241027T030000
END:STANDARD
BEGIN:DAYLIGHT
TZNAME:CEST
DTSTART:20230326T020000
TZOFFSETFROM:+0100
TZOFFSETTO:+0200
RDATE:20240331T020000
RDATE:20250330T020000
END:DAYLIGHT
END:VTIMEZONE
BEGIN:VEVENT
UID:3aa4b0cb-27da-4822-8ea5-c14589d4f15c
DTSTAMP:20260425T174352Z
CLASS:PUBLIC
DESCRIPTION:Razvan est de l'IMB.\n\n Le projet HQI (France 2030\, piloté pa
 r J.-C. Lafoucrière (CEA)\n\nDans cet exposé\, nous utilisons la présentat
 ion du projet Hybrid Quantum initiative pour faire un panorama de la reche
 rche sur l'informatique quantique. Cela consiste en construction d'ordinat
 eurs\, correction des erreurs\, optimisation\, simulation\, cryptanalyse e
 tc. \n\n\nhttps://combalgo.labri.fr/pmwiki.php/Groupe/Info-Quantique
DTSTART;TZID=Europe/Paris:20231017T150000
DTEND;TZID=Europe/Paris:20231017T160000
LOCATION:076
SEQUENCE:0
SUMMARY:[gt-iq] Ravzan Barbulescu
TRANSP:OPAQUE
END:VEVENT
END:VCALENDAR
