BEGIN:VCALENDAR
VERSION:2.0
PRODID:-//labri.fr//NONSGML kigkonsult.se iCalcreator 2.41.92//
CALSCALE:GREGORIAN
METHOD:PUBLISH
UID:1dd1cde4-d041-4cc8-b16e-8cb268179dbb
X-WR-CALNAME:Séminaire de Vincent Couallier\, Enseignant-chercheur\, ISM/Un
 iversité de Bordeaux. Intitulé de son exposé : 'Valorisation des données d
 ans les réseaux d'eau potable : exploitation statistique\, prévision et op
 timisation des pratiques'
X-WR-TIMEZONE:Europe/Paris
BEGIN:VTIMEZONE
TZID:Europe/Paris
TZUNTIL:20251026T010000Z
BEGIN:STANDARD
TZNAME:CET
DTSTART:20231029T030000
TZOFFSETFROM:+0200
TZOFFSETTO:+0100
RDATE:20241027T030000
END:STANDARD
BEGIN:DAYLIGHT
TZNAME:CEST
DTSTART:20230326T020000
TZOFFSETFROM:+0100
TZOFFSETTO:+0200
RDATE:20240331T020000
RDATE:20250330T020000
END:DAYLIGHT
END:VTIMEZONE
BEGIN:VEVENT
UID:1dd1cde4-d041-4cc8-b16e-8cb268179dbb
DTSTAMP:20260425T164147Z
CLASS:PUBLIC
DESCRIPTION:Le séminaire NUMERICS\, séminaire transdisciplinaire sur la cul
 ture scientifique et les enjeux sociétaux du Numérique\, aura lieu dans l’
 amphi du LaBRI\, à 12h45.\n\nCe séminaire est ouvert à tous.
DTSTART;TZID=Europe/Paris:20231206T124500
DTEND;TZID=Europe/Paris:20231206T134500
LOCATION:Amphi LaBRI
SEQUENCE:0
SUMMARY:Séminaire de Vincent Couallier\, Enseignant-chercheur\, ISM/Univers
 ité de Bordeaux. Intitulé de son exposé : 'Valorisation des données dans l
 es réseaux d'eau potable : exploitation statistique\, prévision et optimis
 ation des pratiques'
TRANSP:OPAQUE
END:VEVENT
END:VCALENDAR
