BEGIN:VCALENDAR
VERSION:2.0
PRODID:-//labri.fr//NONSGML kigkonsult.se iCalcreator 2.41.92//
CALSCALE:GREGORIAN
METHOD:PUBLISH
UID:b2d9b9ab-9c2e-4004-9f55-36eb051ec28c
X-WR-CALNAME:Séminaire de Mohamed Mosbah. Intitulé de son exposé : ' Introd
 uction aux systèmes de transports intelligents.'
X-WR-TIMEZONE:Europe/Paris
BEGIN:VTIMEZONE
TZID:Europe/Paris
TZUNTIL:20251026T010000Z
BEGIN:STANDARD
TZNAME:CET
DTSTART:20221030T030000
TZOFFSETFROM:+0200
TZOFFSETTO:+0100
RDATE:20231029T030000
RDATE:20241027T030000
END:STANDARD
BEGIN:DAYLIGHT
TZNAME:CEST
DTSTART:20230326T020000
TZOFFSETFROM:+0100
TZOFFSETTO:+0200
RDATE:20240331T020000
RDATE:20250330T020000
END:DAYLIGHT
END:VTIMEZONE
BEGIN:VEVENT
UID:b2d9b9ab-9c2e-4004-9f55-36eb051ec28c
DTSTAMP:20260425T174336Z
CLASS:PUBLIC
DESCRIPTION:Le séminaire NUMERICS\, séminaire transdisciplinaire sur la cul
 ture scientifique et les enjeux sociétaux du Numérique\, aura lieu dans l’
 amphi du LaBRI\, à 12h45.\n\nCe séminaire est ouvert à tous.
DTSTART;TZID=Europe/Paris:20231011T124500
DTEND;TZID=Europe/Paris:20231011T134500
LOCATION:Amphi LaBRI
SEQUENCE:0
SUMMARY:Séminaire de Mohamed Mosbah. Intitulé de son exposé : ' Introductio
 n aux systèmes de transports intelligents.'
TRANSP:OPAQUE
END:VEVENT
END:VCALENDAR
