BEGIN:VCALENDAR
VERSION:2.0
PRODID:-//labri.fr//NONSGML kigkonsult.se iCalcreator 2.41.92//
CALSCALE:GREGORIAN
METHOD:PUBLISH
UID:eb31e693-8d04-4990-b49d-99395ae13060
X-WR-CALNAME:Conférence Mobilités
X-WR-TIMEZONE:Europe/Paris
BEGIN:VTIMEZONE
TZID:Europe/Paris
TZUNTIL:20250330T010000Z
BEGIN:STANDARD
TZNAME:CET
DTSTART:20221030T030000
TZOFFSETFROM:+0200
TZOFFSETTO:+0100
RDATE:20231029T030000
RDATE:20241027T030000
END:STANDARD
BEGIN:DAYLIGHT
TZNAME:CEST
DTSTART:20230326T020000
TZOFFSETFROM:+0100
TZOFFSETTO:+0200
RDATE:20240331T020000
END:DAYLIGHT
END:VTIMEZONE
BEGIN:VEVENT
UID:eb31e693-8d04-4990-b49d-99395ae13060
DTSTAMP:20260425T162104Z
CLASS:PUBLIC
DESCRIPTION:Mohamed Mosbah donnera une conférence sur le thème des Mobilité
 s\, mardi 26/09\, à partir de 19h\, à la Maison de la vie écocitoyenneté L
 a Source (Le Bouscat). Cette conférence s’inscrit dans le cadre de la sema
 ine Européenne des mobilités\, organisée par la ville du Bouscat.\n
DTSTART;TZID=Europe/Paris:20230926T190000
DTEND;TZID=Europe/Paris:20230926T190000
LOCATION:La Source (Maison écocitoyenneté) - Le Bouscat
ORGANIZER;CN=Mohamed Mosbah:mailto:mohamed.mosbah@labri.fr
SEQUENCE:0
SUMMARY:Conférence Mobilités
TRANSP:OPAQUE
END:VEVENT
END:VCALENDAR
