BEGIN:VCALENDAR
VERSION:2.0
PRODID:-//labri.fr//NONSGML kigkonsult.se iCalcreator 2.41.92//
CALSCALE:GREGORIAN
METHOD:PUBLISH
UID:919c924b-48bc-4b5a-a927-0168651cbd62
X-WR-CALNAME:Séminaire de Benjamin Hellouin : « Mélange dans Hom shifts / r
 econfiguration des chemins dans les graphes ».
X-WR-TIMEZONE:Europe/Paris
BEGIN:VTIMEZONE
TZID:Europe/Paris
TZUNTIL:20250330T010000Z
BEGIN:STANDARD
TZNAME:CET
DTSTART:20221030T030000
TZOFFSETFROM:+0200
TZOFFSETTO:+0100
RDATE:20231029T030000
RDATE:20241027T030000
END:STANDARD
BEGIN:DAYLIGHT
TZNAME:CEST
DTSTART:20230326T020000
TZOFFSETFROM:+0100
TZOFFSETTO:+0200
RDATE:20240331T020000
END:DAYLIGHT
END:VTIMEZONE
BEGIN:VEVENT
UID:919c924b-48bc-4b5a-a927-0168651cbd62
DTSTAMP:20260425T162058Z
CLASS:PUBLIC
DESCRIPTION:Benjamin Hellouin donnera un séminaire\, dont le sujet porte su
 r : « Mélange dans Hom shifts / reconfiguration des chemins dans les graph
 es »\n\nPossibilité de suivre le séminaire par connexion zoom.
DTSTART;TZID=Europe/Paris:20230626T104500
DTEND;TZID=Europe/Paris:20230626T114500
LOCATION:Salle 178
SEQUENCE:0
SUMMARY:Séminaire de Benjamin Hellouin : « Mélange dans Hom shifts / reconf
 iguration des chemins dans les graphes ».
TRANSP:OPAQUE
END:VEVENT
END:VCALENDAR
