BEGIN:VCALENDAR
VERSION:2.0
PRODID:-//labri.fr//NONSGML kigkonsult.se iCalcreator 2.41.92//
CALSCALE:GREGORIAN
METHOD:PUBLISH
UID:ed07482a-ca6f-48fd-99e0-ea1b8c400074
X-WR-CALNAME:Soutenance de thèse de Claire Hilaire (département CombAlgo)
X-WR-TIMEZONE:Europe/Paris
BEGIN:VTIMEZONE
TZID:Europe/Paris
TZUNTIL:20250330T010000Z
BEGIN:STANDARD
TZNAME:CET
DTSTART:20221030T030000
TZOFFSETFROM:+0200
TZOFFSETTO:+0100
RDATE:20231029T030000
RDATE:20241027T030000
END:STANDARD
BEGIN:DAYLIGHT
TZNAME:CEST
DTSTART:20230326T020000
TZOFFSETFROM:+0100
TZOFFSETTO:+0200
RDATE:20240331T020000
END:DAYLIGHT
END:VTIMEZONE
BEGIN:VEVENT
UID:ed07482a-ca6f-48fd-99e0-ea1b8c400074
DTSTAMP:20260425T174352Z
CLASS:PUBLIC
DESCRIPTION:Claire Hilaire soutiendra sa thèse intitulée : « Structure de g
 raphes\, mineurs et arbres induits»\n
DTSTART;TZID=Europe/Paris:20230704T143000
DTEND;TZID=Europe/Paris:20230704T180000
LOCATION:Amphi LaBRI
ORGANIZER;CN=Cyril Gavoille:mailto:gavoille@labri.fr
SEQUENCE:0
SUMMARY:Soutenance de thèse de Claire Hilaire (département CombAlgo)
TRANSP:OPAQUE
END:VEVENT
END:VCALENDAR
