BEGIN:VCALENDAR
VERSION:2.0
PRODID:-//labri.fr//NONSGML kigkonsult.se iCalcreator 2.41.92//
CALSCALE:GREGORIAN
METHOD:PUBLISH
UID:b1bcbb75-8102-4a0d-811f-bbfb46c00f37
X-WR-CALNAME:Soutenance de thèse de Baptiste Coye (département Satanas)
X-WR-TIMEZONE:Europe/Paris
BEGIN:VTIMEZONE
TZID:Europe/Paris
TZUNTIL:20250330T010000Z
BEGIN:STANDARD
TZNAME:CET
DTSTART:20221030T030000
TZOFFSETFROM:+0200
TZOFFSETTO:+0100
RDATE:20231029T030000
RDATE:20241027T030000
END:STANDARD
BEGIN:DAYLIGHT
TZNAME:CEST
DTSTART:20230326T020000
TZOFFSETFROM:+0100
TZOFFSETTO:+0200
RDATE:20240331T020000
END:DAYLIGHT
END:VTIMEZONE
BEGIN:VEVENT
UID:b1bcbb75-8102-4a0d-811f-bbfb46c00f37
DTSTAMP:20260425T162101Z
CLASS:PUBLIC
DESCRIPTION:Baptiste Coye soutiendra sa thèse intitulée : « Ordonnancement 
 dynamique de graphe de tâches par composition».\n
DTSTART;TZID=Europe/Paris:20230710T140000
DTEND;TZID=Europe/Paris:20230710T180000
LOCATION:Inria (Salle Ada Lovelace)
ORGANIZER;CN=Raymond Namyst:mailto:raymond.namyst@labri.fr
SEQUENCE:0
SUMMARY:Soutenance de thèse de Baptiste Coye (département Satanas)
TRANSP:OPAQUE
END:VEVENT
END:VCALENDAR
