BEGIN:VCALENDAR
VERSION:2.0
PRODID:-//labri.fr//NONSGML kigkonsult.se iCalcreator 2.41.92//
CALSCALE:GREGORIAN
METHOD:PUBLISH
UID:1d58cdc9-a3d2-4ea6-b421-29a70ad4e260
X-WR-CALNAME:Soutenance de HDR de Romain Pacanowski (département I&S)
X-WR-TIMEZONE:Europe/Paris
BEGIN:VTIMEZONE
TZID:Europe/Paris
TZUNTIL:20250330T010000Z
BEGIN:STANDARD
TZNAME:CET
DTSTART:20221030T030000
TZOFFSETFROM:+0200
TZOFFSETTO:+0100
RDATE:20231029T030000
RDATE:20241027T030000
END:STANDARD
BEGIN:DAYLIGHT
TZNAME:CEST
DTSTART:20230326T020000
TZOFFSETFROM:+0100
TZOFFSETTO:+0200
RDATE:20240331T020000
END:DAYLIGHT
END:VTIMEZONE
BEGIN:VEVENT
UID:1d58cdc9-a3d2-4ea6-b421-29a70ad4e260
DTSTAMP:20260425T164120Z
CLASS:PUBLIC
DESCRIPTION:Romain Pacanowski soutiendra sa HDR intitulée : « Vers un pipel
 ine complet de rendu prédictif pour le prototypage numérique et les applic
 ations au patrimoine culturel ».\n
DTSTART;TZID=Europe/Paris:20230621T093000
DTEND;TZID=Europe/Paris:20230621T190000
LOCATION:Inria (Salle Ada Lovelace)
ORGANIZER;CN=Romain Pacanowski:mailto:romain.pacanowski@labri.fr
SEQUENCE:0
SUMMARY:Soutenance de HDR de Romain Pacanowski (département I&S)
TRANSP:OPAQUE
END:VEVENT
END:VCALENDAR
