BEGIN:VCALENDAR
VERSION:2.0
PRODID:-//labri.fr//NONSGML kigkonsult.se iCalcreator 2.41.92//
CALSCALE:GREGORIAN
METHOD:PUBLISH
UID:6e7e3802-45d5-4a31-8d5b-9dc6d1f307b3
X-WR-CALNAME:[DART] R4
X-WR-TIMEZONE:Europe/Paris
BEGIN:VTIMEZONE
TZID:Europe/Paris
TZUNTIL:20250330T010000Z
BEGIN:STANDARD
TZNAME:CET
DTSTART:20221030T030000
TZOFFSETFROM:+0200
TZOFFSETTO:+0100
RDATE:20231029T030000
RDATE:20241027T030000
END:STANDARD
BEGIN:DAYLIGHT
TZNAME:CEST
DTSTART:20230326T020000
TZOFFSETFROM:+0100
TZOFFSETTO:+0200
RDATE:20240331T020000
END:DAYLIGHT
END:VTIMEZONE
BEGIN:VEVENT
UID:6e7e3802-45d5-4a31-8d5b-9dc6d1f307b3
DTSTAMP:20260425T161934Z
CLASS:PUBLIC
DESCRIPTION:Unifying view of physical ability metrics for humans\, robots a
 nd their collaboration\nAntun Skuric\nVisio: https://u-bordeaux-fr.zoom.us
 /j/83483228567\n\n\nhttps://r4-robotique.fr
DTSTART;TZID=Europe/Paris:20230605T130000
DTEND;TZID=Europe/Paris:20230605T140000
LOCATION:Remote
SEQUENCE:0
SUMMARY:[DART] R4
TRANSP:OPAQUE
END:VEVENT
END:VCALENDAR
