BEGIN:VCALENDAR
VERSION:2.0
PRODID:-//labri.fr//NONSGML kigkonsult.se iCalcreator 2.41.92//
CALSCALE:GREGORIAN
METHOD:PUBLISH
UID:dc8846dc-33a3-4281-9ad8-aa9560188016
X-WR-CALNAME:Thèse de Manh Tu Vu : ' Apprentissage profond pour l'évaluatio
 n automatique des expressions faciales avec application à l'expression de 
 la douleur '
X-WR-TIMEZONE:Europe/Paris
BEGIN:VTIMEZONE
TZID:Europe/Paris
TZUNTIL:20241027T010000Z
BEGIN:STANDARD
TZNAME:CET
DTSTART:20221030T030000
TZOFFSETFROM:+0200
TZOFFSETTO:+0100
RDATE:20231029T030000
END:STANDARD
BEGIN:DAYLIGHT
TZNAME:CEST
DTSTART:20220327T020000
TZOFFSETFROM:+0100
TZOFFSETTO:+0200
RDATE:20230326T020000
RDATE:20240331T020000
END:DAYLIGHT
END:VTIMEZONE
BEGIN:VEVENT
UID:dc8846dc-33a3-4281-9ad8-aa9560188016
DTSTAMP:20260425T165652Z
CLASS:PUBLIC
DESCRIPTION:Manh Tu Vu (doctorant au département I&amp\;S\, équipe TAD) sou
 tiendra sa thèse intitulée : ' Apprentissage profond pour l'évaluation aut
 omatique des expressions faciales avec application à l'expression de la do
 uleur '\n
DTSTART;TZID=Europe/Paris:20221213T140000
DTEND;TZID=Europe/Paris:20221213T180000
LOCATION:Amphi du LaBRI
ORGANIZER;CN=Marie Beurton-Aimar:mailto:marie.beurton@labri.fr
SEQUENCE:0
SUMMARY:Thèse de Manh Tu Vu : ' Apprentissage profond pour l'évaluation aut
 omatique des expressions faciales avec application à l'expression de la do
 uleur '
TRANSP:OPAQUE
END:VEVENT
END:VCALENDAR
