BEGIN:VCALENDAR
VERSION:2.0
PRODID:-//labri.fr//NONSGML kigkonsult.se iCalcreator 2.41.92//
CALSCALE:GREGORIAN
METHOD:PUBLISH
UID:337074d3-223a-4d45-993d-d613493c427a
X-WR-CALNAME:Présentation de Valerio Schiavoni (Université de Neuchâtel\, S
 uisse) : «Lessons Learned In Building Trustworthy Systems with Trusted Exe
 cution Environments»
X-WR-TIMEZONE:Europe/Paris
BEGIN:VTIMEZONE
TZID:Europe/Paris
TZUNTIL:20231029T010000Z
BEGIN:STANDARD
TZNAME:CET
DTSTART:20211031T030000
TZOFFSETFROM:+0200
TZOFFSETTO:+0100
RDATE:20221030T030000
END:STANDARD
BEGIN:DAYLIGHT
TZNAME:CEST
DTSTART:20210328T020000
TZOFFSETFROM:+0100
TZOFFSETTO:+0200
RDATE:20220327T020000
RDATE:20230326T020000
END:DAYLIGHT
END:VTIMEZONE
BEGIN:VEVENT
UID:337074d3-223a-4d45-993d-d613493c427a
DTSTAMP:20260425T182009Z
CLASS:PUBLIC
DESCRIPTION:À l'occasion de sa visite au LaBRI\,&nbsp\; Valerio Schiavoni f
 era un séminaire intitulé : «Lessons Learned In Building Trustworthy Syste
 ms with Trusted Execution Environments»\n
DTSTART;TZID=Europe/Paris:20211026T100000
DTEND;TZID=Europe/Paris:20211026T110000
LOCATION:Amphi LaBRI
SEQUENCE:0
SUMMARY:Présentation de Valerio Schiavoni (Université de Neuchâtel\, Suisse
 ) : «Lessons Learned In Building Trustworthy Systems with Trusted Executio
 n Environments»
TRANSP:OPAQUE
END:VEVENT
END:VCALENDAR
