BEGIN:VCALENDAR
VERSION:2.0
PRODID:-//labri.fr//NONSGML kigkonsult.se iCalcreator 2.41.92//
CALSCALE:GREGORIAN
METHOD:PUBLISH
UID:8df97f56-a6cf-490a-a08b-920d60c6baa8
X-WR-CALNAME:Thèse Philippe Giraudeau : « Interactions tangibles et augment
 ées pour découvrir\, comprendre et apprendre» - 14h
X-WR-TIMEZONE:Europe/Paris
BEGIN:VTIMEZONE
TZID:Europe/Paris
TZUNTIL:20221030T010000Z
BEGIN:STANDARD
TZNAME:CET
DTSTART:20201025T030000
TZOFFSETFROM:+0200
TZOFFSETTO:+0100
RDATE:20211031T030000
END:STANDARD
BEGIN:DAYLIGHT
TZNAME:CEST
DTSTART:20200329T020000
TZOFFSETFROM:+0100
TZOFFSETTO:+0200
RDATE:20210328T020000
RDATE:20220327T020000
END:DAYLIGHT
END:VTIMEZONE
BEGIN:VEVENT
UID:8df97f56-a6cf-490a-a08b-920d60c6baa8
DTSTAMP:20260425T164023Z
CLASS:PUBLIC
DESCRIPTION:Philippe Giraudeau soutiendra sa thèse intitulée : « Interactio
 ns tangibles et augmentées pour découvrir\, comprendre et apprendre»\n
DTSTART;TZID=Europe/Paris:20210322T090000
DTEND;TZID=Europe/Paris:20210322T190000
LOCATION:Inria : Salle Sophie Germain (Visioconférence)
SEQUENCE:0
SUMMARY:Thèse Philippe Giraudeau : « Interactions tangibles et augmentées p
 our découvrir\, comprendre et apprendre» - 14h
TRANSP:OPAQUE
END:VEVENT
END:VCALENDAR
