BEGIN:VCALENDAR
VERSION:2.0
PRODID:-//labri.fr//NONSGML kigkonsult.se iCalcreator 2.41.92//
CALSCALE:GREGORIAN
METHOD:PUBLISH
UID:ebf2a519-5722-496e-9e60-45e71f4f43d6
X-WR-CALNAME:Soutenance de HDR de Raluca Uricaru
X-WR-TIMEZONE:Europe/Paris
BEGIN:VTIMEZONE
TZID:Europe/Paris
TZUNTIL:20261025T010000Z
BEGIN:STANDARD
TZNAME:CET
DTSTART:20241027T030000
TZOFFSETFROM:+0200
TZOFFSETTO:+0100
RDATE:20251026T030000
END:STANDARD
BEGIN:DAYLIGHT
TZNAME:CEST
DTSTART:20240331T020000
TZOFFSETFROM:+0100
TZOFFSETTO:+0200
RDATE:20250330T020000
RDATE:20260329T020000
END:DAYLIGHT
END:VTIMEZONE
BEGIN:VEVENT
UID:ebf2a519-5722-496e-9e60-45e71f4f43d6
DTSTAMP:20260425T164120Z
CLASS:PUBLIC
DESCRIPTION:Raluca Uricaru soutiendra son HDR\, mardi 11 février 2025 à 14h
 \, amphi LaBRI.Titre de son habilitation : « Des séquences aux données mul
 ti-omiques ».&nbsp\;
DTSTART;TZID=Europe/Paris:20250211T140000
DTEND;TZID=Europe/Paris:20250211T170000
LOCATION:Amphi LaBRI
SEQUENCE:0
SUMMARY:Soutenance de HDR de Raluca Uricaru
TRANSP:OPAQUE
END:VEVENT
END:VCALENDAR
