BEGIN:VCALENDAR
VERSION:2.0
PRODID:-//labri.fr//NONSGML kigkonsult.se iCalcreator 2.41.92//
CALSCALE:GREGORIAN
METHOD:PUBLISH
UID:6a5d3947-2507-428d-8cf6-66989580e519
X-WR-CALNAME:Séminaire de Paul Lascabettes
X-WR-TIMEZONE:Europe/Paris
BEGIN:VTIMEZONE
TZID:Europe/Paris
TZUNTIL:20261025T010000Z
BEGIN:STANDARD
TZNAME:CET
DTSTART:20241027T030000
TZOFFSETFROM:+0200
TZOFFSETTO:+0100
RDATE:20251026T030000
END:STANDARD
BEGIN:DAYLIGHT
TZNAME:CEST
DTSTART:20240331T020000
TZOFFSETFROM:+0100
TZOFFSETTO:+0200
RDATE:20250330T020000
RDATE:20260329T020000
END:DAYLIGHT
END:VTIMEZONE
BEGIN:VEVENT
UID:6a5d3947-2507-428d-8cf6-66989580e519
DTSTAMP:20260425T174417Z
CLASS:PUBLIC
DESCRIPTION:Paul Lascabettes\, post-doctorant à l'Université de Strasbourg\
 , donnera un séminaire intitulé : « Une approche pour la découverte de mot
 ifs musicaux basée sur la morphologie mathématique ».Il s’agit de présente
 r des de techniques de traitement d'image issus de la morphologie mathémat
 ique\, appliquées à la découverte de motifs musicaux.&nbsp\;&nbsp\;
DTSTART;TZID=Europe/Paris:20241220T140000
DTEND;TZID=Europe/Paris:20241220T170000
LOCATION:Salle Hémicyclia (LaBRI)
ORGANIZER;CN=SCRIME:mailto:contact-scrime@u-bordeaux.fr
SEQUENCE:0
SUMMARY:Séminaire de Paul Lascabettes
TRANSP:OPAQUE
END:VEVENT
END:VCALENDAR
