BEGIN:VCALENDAR
VERSION:2.0
PRODID:-//labri.fr//NONSGML kigkonsult.se iCalcreator 2.41.92//
CALSCALE:GREGORIAN
METHOD:PUBLISH
UID:01cd6c49-2f47-4c00-a458-f50dd2299617
X-WR-CALNAME:Soutenance de thèse d'Elsa Claude
X-WR-TIMEZONE:Europe/Paris
BEGIN:VTIMEZONE
TZID:Europe/Paris
TZUNTIL:20261025T010000Z
BEGIN:STANDARD
TZNAME:CET
DTSTART:20241027T030000
TZOFFSETFROM:+0200
TZOFFSETTO:+0100
RDATE:20251026T030000
END:STANDARD
BEGIN:DAYLIGHT
TZNAME:CEST
DTSTART:20240331T020000
TZOFFSETFROM:+0100
TZOFFSETTO:+0200
RDATE:20250330T020000
RDATE:20260329T020000
END:DAYLIGHT
END:VTIMEZONE
BEGIN:VEVENT
UID:01cd6c49-2f47-4c00-a458-f50dd2299617
DTSTAMP:20260425T164100Z
CLASS:PUBLIC
DESCRIPTION:Elsa Claude soutiendra sa thèse intitulée : « Développement d’u
 ne approche hybride ensembliste de sélection de variables pour l’élaborati
 on d’un atlas de biomarqueurs de cancers »
DTSTART;TZID=Europe/Paris:20241218T150000
DTEND;TZID=Europe/Paris:20241218T170000
LOCATION:Amphi E (Bâtiment A29)
ORGANIZER;CN=Patricia Thébault:mailto:patricia.thebault@u-bordeaux.fr
SEQUENCE:0
SUMMARY:Soutenance de thèse d'Elsa Claude
TRANSP:OPAQUE
END:VEVENT
END:VCALENDAR
