BEGIN:VCALENDAR
VERSION:2.0
PRODID:-//labri.fr//NONSGML kigkonsult.se iCalcreator 2.41.92//
CALSCALE:GREGORIAN
METHOD:PUBLISH
UID:5dcb9618-5c50-49e6-b065-a026e26cae48
X-WR-CALNAME:[gt.go] - 'Soutenance de thèse' par Timothée Corsini
X-WR-TIMEZONE:Europe/Paris
BEGIN:VTIMEZONE
TZID:Europe/Paris
TZUNTIL:20261025T010000Z
BEGIN:STANDARD
TZNAME:CET
DTSTART:20241027T030000
TZOFFSETFROM:+0200
TZOFFSETTO:+0100
RDATE:20251026T030000
END:STANDARD
BEGIN:DAYLIGHT
TZNAME:CEST
DTSTART:20240331T020000
TZOFFSETFROM:+0100
TZOFFSETTO:+0200
RDATE:20250330T020000
RDATE:20260329T020000
END:DAYLIGHT
END:VTIMEZONE
BEGIN:VEVENT
UID:5dcb9618-5c50-49e6-b065-a026e26cae48
DTSTAMP:20260425T150713Z
CLASS:PUBLIC
DESCRIPTION:Soutenance de thèse / PhD. Defense \n\n[Timothée Corsini] (LaBR
 I) \n\nVérifiez que vous êtes bien inscrits sur le site du [gdr-ifm-gt-gra
 phes] : [ https://gtgraphes.labri.fr/pmwiki/pmwiki.php/Equipes/Equipes#mem
 bres | https://gtgraphes.labri.fr/pmwiki/pmwiki.php/Equipes/Equipes#membre
 s ] \n\nRemarks / Remarques \n\nFind all the information of the working gr
 oup on this [ https://graphesetoptimisation.labri.fr/pmwiki.php/Groupe/GT?
 userlang=en | web page ] . \nRetrouvez toutes les informations du GT sur c
 ette [ https://graphesetoptimisation.labri.fr/pmwiki.php/Groupe/GT | page 
 web ] . \n\n\n\nImport automatique depuis https://webmel.u-bordeaux.fr/hom
 e/bf-labri.ca@u-bordeaux.fr/gt.go.ics par sync_icals_to_drupal.py pour GT-
 GO
DTSTART;TZID=Europe/Paris:20241129T140000
DTEND;TZID=Europe/Paris:20241129T163000
LOCATION:LaBRI/178
SEQUENCE:0
SUMMARY:[gt.go] - 'Soutenance de thèse' par Timothée Corsini
TRANSP:OPAQUE
END:VEVENT
END:VCALENDAR
