BEGIN:VCALENDAR
VERSION:2.0
PRODID:-//labri.fr//NONSGML kigkonsult.se iCalcreator 2.41.92//
CALSCALE:GREGORIAN
METHOD:PUBLISH
UID:10d7c9b1-f3c8-4c81-a3ed-05a9af7b0ab2
X-WR-CALNAME:Jason Schoeters PhD thesis: 'Contributions to temporal graph t
 heory and mobility-related problems' - 14h
X-WR-TIMEZONE:Europe/Paris
BEGIN:VTIMEZONE
TZID:Europe/Paris
TZUNTIL:20221030T010000Z
BEGIN:STANDARD
TZNAME:CET
DTSTART:20201025T030000
TZOFFSETFROM:+0200
TZOFFSETTO:+0100
RDATE:20211031T030000
END:STANDARD
BEGIN:DAYLIGHT
TZNAME:CEST
DTSTART:20200329T020000
TZOFFSETFROM:+0100
TZOFFSETTO:+0200
RDATE:20210328T020000
RDATE:20220327T020000
END:DAYLIGHT
END:VTIMEZONE
BEGIN:VEVENT
UID:10d7c9b1-f3c8-4c81-a3ed-05a9af7b0ab2
DTSTAMP:20260425T171736Z
CLASS:PUBLIC
DESCRIPTION:
DTSTART;TZID=Europe/Paris:20210329T090000
DTEND;TZID=Europe/Paris:20210329T190000
LOCATION:LaBRI (visioconférence ou présentiel suivant la situation sanitair
 e)
ORGANIZER;CN=Arnaud Casteigts:mailto:arnaud.casteigts@labri.fr
SEQUENCE:0
SUMMARY:Jason Schoeters PhD thesis: 'Contributions to temporal graph theory
  and mobility-related problems' - 14h
TRANSP:OPAQUE
END:VEVENT
END:VCALENDAR
