BEGIN:VCALENDAR
VERSION:2.0
PRODID:-//labri.fr//NONSGML kigkonsult.se iCalcreator 2.41.92//
CALSCALE:GREGORIAN
METHOD:PUBLISH
UID:b1111276-5e47-4431-b1c8-95d1595e2112
X-WR-CALNAME:[gt.iq] Yassine Hamoudi : Compromis temps-mémoire quantiques e
 t application à la recherche de collisions
X-WR-TIMEZONE:Europe/Paris
BEGIN:VTIMEZONE
TZID:Europe/Paris
TZUNTIL:20231029T010000Z
BEGIN:STANDARD
TZNAME:CET
DTSTART:20211031T030000
TZOFFSETFROM:+0200
TZOFFSETTO:+0100
RDATE:20221030T030000
END:STANDARD
BEGIN:DAYLIGHT
TZNAME:CEST
DTSTART:20210328T020000
TZOFFSETFROM:+0100
TZOFFSETTO:+0200
RDATE:20220327T020000
RDATE:20230326T020000
END:DAYLIGHT
END:VTIMEZONE
BEGIN:VEVENT
UID:b1111276-5e47-4431-b1c8-95d1595e2112
DTSTAMP:20260425T164330Z
CLASS:PUBLIC
DESCRIPTION:Titre: Compromis temps-mémoire quantiques et application à la r
 echerche de \ncollisions \n\nRésumé: \nDeux méthodes prédominent pour démo
 ntrer des bornes inférieures temporelles \ndans le modèle de requêtes quan
 tiques : la méthode polynomiale et la \nméthode par adversaire. Bien que t
 rès puissantes\, ces techniques sont \nsouvent difficiles et peu intuitive
 s à appliquer. Dans cet exposé\, je \nprésenterai une version simplifiée e
 t généralisée d'une nouvelle méthode \n'd'enregistrement de requêtes quant
 iques' introduite par Mark Zhandry en \n2019. Cette approche permet de rep
 rouver de façon intuitive plusieurs \nbornes existantes\, mais également d
 'obtenir de nouveaux résultats \nconcernant la complexité en mémoire. Je d
 étaillerai notamment une \napplication aux attaques de collisions avec fai
 ble mémoire quantique\, \nmontrant que toute attaque quantique optimale en
  temps nécessite un espace \nde calcul important. \n\n\n\n\nhttps://combal
 go.labri.fr/pmwiki.php/Groupe/Info-Quantique
DTSTART;TZID=Europe/Paris:20211109T160000
DTEND;TZID=Europe/Paris:20211109T170000
LOCATION:LaBRI
SEQUENCE:0
SUMMARY:[gt.iq] Yassine Hamoudi : Compromis temps-mémoire quantiques et app
 lication à la recherche de collisions
TRANSP:OPAQUE
END:VEVENT
END:VCALENDAR
