BEGIN:VCALENDAR
VERSION:2.0
PRODID:-//labri.fr//NONSGML kigkonsult.se iCalcreator 2.41.92//
CALSCALE:GREGORIAN
METHOD:PUBLISH
UID:27023723-9c4f-426b-bd61-cfb1adde11fb
X-WR-CALNAME:Seminar given by Frédéric Alexandre\, Director of Research\, I
 nria/Université de Bordeaux. Title of his talk: 'A few elements for unders
 tanding how ChatGPT works'.
X-WR-TIMEZONE:Europe/Paris
BEGIN:VTIMEZONE
TZID:Europe/Paris
TZUNTIL:20251026T010000Z
BEGIN:STANDARD
TZNAME:CET
DTSTART:20231029T030000
TZOFFSETFROM:+0200
TZOFFSETTO:+0100
RDATE:20241027T030000
END:STANDARD
BEGIN:DAYLIGHT
TZNAME:CEST
DTSTART:20230326T020000
TZOFFSETFROM:+0100
TZOFFSETTO:+0200
RDATE:20240331T020000
RDATE:20250330T020000
END:DAYLIGHT
END:VTIMEZONE
BEGIN:VEVENT
UID:27023723-9c4f-426b-bd61-cfb1adde11fb
DTSTAMP:20260425T164428Z
CLASS:PUBLIC
DESCRIPTION:The NUMERICS seminar\, a transdisciplinary seminar on scientifi
 c culture and the societal challenges of digital technology\, will take pl
 ace in the LaBRI amphitheatre at 12:45pm.\n\nThis seminar is open to all.
DTSTART;TZID=Europe/Paris:20231129T124500
DTEND;TZID=Europe/Paris:20231129T134500
LOCATION:Amphi LaBRI
SEQUENCE:0
SUMMARY:Seminar given by Frédéric Alexandre\, Director of Research\, Inria/
 Université de Bordeaux. Title of his talk: 'A few elements for understandi
 ng how ChatGPT works'.
TRANSP:OPAQUE
END:VEVENT
END:VCALENDAR
