BEGIN:VCALENDAR
VERSION:2.0
PRODID:-//labri.fr//NONSGML kigkonsult.se iCalcreator 2.41.92//
CALSCALE:GREGORIAN
METHOD:PUBLISH
UID:eb31e693-8d04-4990-b49d-99395ae13060
X-WR-CALNAME:Mobility Conferenceés
X-WR-TIMEZONE:Europe/Paris
BEGIN:VTIMEZONE
TZID:Europe/Paris
TZUNTIL:20250330T010000Z
BEGIN:STANDARD
TZNAME:CET
DTSTART:20221030T030000
TZOFFSETFROM:+0200
TZOFFSETTO:+0100
RDATE:20231029T030000
RDATE:20241027T030000
END:STANDARD
BEGIN:DAYLIGHT
TZNAME:CEST
DTSTART:20230326T020000
TZOFFSETFROM:+0100
TZOFFSETTO:+0200
RDATE:20240331T020000
END:DAYLIGHT
END:VTIMEZONE
BEGIN:VEVENT
UID:eb31e693-8d04-4990-b49d-99395ae13060
DTSTAMP:20260425T174735Z
CLASS:PUBLIC
DESCRIPTION:Mohamed Mosbah will be giving a talk on the theme of Mobility\,
  on September Tuesday 26\, from 7pm\, at the Maison de la vie écocitoyenne
 té La Source (Le Bouscat). This conference is part of European Mobility We
 ek\, organised by the town of Le Bouscat.\n
DTSTART;TZID=Europe/Paris:20230926T190000
DTEND;TZID=Europe/Paris:20230926T190000
LOCATION:La Source (Maison écocitoyenneté) - Le Bouscat
ORGANIZER;CN=Mohamed Mosbah:mailto:mohamed.mosbah@labri.fr
SEQUENCE:0
SUMMARY:Mobility Conferenceés
TRANSP:OPAQUE
END:VEVENT
END:VCALENDAR
