BEGIN:VCALENDAR
VERSION:2.0
PRODID:-//labri.fr//NONSGML kigkonsult.se iCalcreator 2.41.92//
CALSCALE:GREGORIAN
METHOD:PUBLISH
UID:e44c3518-4145-4855-8108-faf8445c7a54
X-WR-CALNAME:Defence of Emile Barjou's thesis (I&S department)
X-WR-TIMEZONE:Europe/Paris
BEGIN:VTIMEZONE
TZID:Europe/Paris
TZUNTIL:20250330T010000Z
BEGIN:STANDARD
TZNAME:CET
DTSTART:20221030T030000
TZOFFSETFROM:+0200
TZOFFSETTO:+0100
RDATE:20231029T030000
RDATE:20241027T030000
END:STANDARD
BEGIN:DAYLIGHT
TZNAME:CEST
DTSTART:20230326T020000
TZOFFSETFROM:+0100
TZOFFSETTO:+0200
RDATE:20240331T020000
END:DAYLIGHT
END:VTIMEZONE
BEGIN:VEVENT
UID:e44c3518-4145-4855-8108-faf8445c7a54
DTSTAMP:20260425T162233Z
CLASS:PUBLIC
DESCRIPTION:Emile Barjou will submit his thesis entitled: 'High-resolution 
 phase contrast tomography'.\n
DTSTART;TZID=Europe/Paris:20230622T140000
DTEND;TZID=Europe/Paris:20230622T180000
LOCATION:Amphi LaBRI
ORGANIZER;CN=Pascal Desbarats:mailto:pascal.desbarats@labri.fr
SEQUENCE:0
SUMMARY:Defence of Emile Barjou's thesis (I&S department)
TRANSP:OPAQUE
END:VEVENT
END:VCALENDAR
