BEGIN:VCALENDAR
VERSION:2.0
PRODID:-//labri.fr//NONSGML kigkonsult.se iCalcreator 2.41.92//
CALSCALE:GREGORIAN
METHOD:PUBLISH
UID:559894f4-243d-4aa9-807f-2a5812cb3602
X-WR-CALNAME:Summer Party
X-WR-TIMEZONE:Europe/Paris
BEGIN:VTIMEZONE
TZID:Europe/Paris
TZUNTIL:20250330T010000Z
BEGIN:STANDARD
TZNAME:CET
DTSTART:20221030T030000
TZOFFSETFROM:+0200
TZOFFSETTO:+0100
RDATE:20231029T030000
RDATE:20241027T030000
END:STANDARD
BEGIN:DAYLIGHT
TZNAME:CEST
DTSTART:20230326T020000
TZOFFSETFROM:+0100
TZOFFSETTO:+0200
RDATE:20240331T020000
END:DAYLIGHT
END:VTIMEZONE
BEGIN:VEVENT
UID:559894f4-243d-4aa9-807f-2a5812cb3602
DTSTAMP:20260425T171847Z
CLASS:PUBLIC
DESCRIPTION:Event bringing together the staff of Inria\, the IMB and the La
 BRI for lunch and an afternoon of games.\n\nDate: June 16th - Location: ca
 r park and lawn in front of the Inria building
DTSTART;TZID=Europe/Paris:20230616T120000
DTEND;TZID=Europe/Paris:20230616T180000
LOCATION:Devant le bâtiment Inria
SEQUENCE:0
SUMMARY:Summer Party
TRANSP:OPAQUE
END:VEVENT
END:VCALENDAR
