BEGIN:VCALENDAR
VERSION:2.0
PRODID:-//labri.fr//NONSGML kigkonsult.se iCalcreator 2.41.92//
CALSCALE:GREGORIAN
METHOD:PUBLISH
UID:270f977a-9eb9-4785-9dc7-817e1ae55676
X-WR-CALNAME:Célia Tassadit Ait Kaci's thesis: 'Static and dynamic analysis
  for the detection of memory access competition errors in MPI-RMA applicat
 ions'
X-WR-TIMEZONE:Europe/Paris
BEGIN:VTIMEZONE
TZID:Europe/Paris
TZUNTIL:20241027T010000Z
BEGIN:STANDARD
TZNAME:CET
DTSTART:20221030T030000
TZOFFSETFROM:+0200
TZOFFSETTO:+0100
RDATE:20231029T030000
END:STANDARD
BEGIN:DAYLIGHT
TZNAME:CEST
DTSTART:20220327T020000
TZOFFSETFROM:+0100
TZOFFSETTO:+0200
RDATE:20230326T020000
RDATE:20240331T020000
END:DAYLIGHT
END:VTIMEZONE
BEGIN:VEVENT
UID:270f977a-9eb9-4785-9dc7-817e1ae55676
DTSTAMP:20260425T180644Z
CLASS:PUBLIC
DESCRIPTION:Célia Tassadit Ait Kaci will submit her thesis entitled: 'Stati
 c and dynamic analysis for the detection of memory access competition erro
 rs in MPI-RMA applications'.\n\nRemote defense via the video link.
DTSTART;TZID=Europe/Paris:20221215T140000
DTEND;TZID=Europe/Paris:20221215T180000
LOCATION:Amphi F (Enseirb-Matmeca)
SEQUENCE:0
SUMMARY:Célia Tassadit Ait Kaci's thesis: 'Static and dynamic analysis for 
 the detection of memory access competition errors in MPI-RMA applications'
TRANSP:OPAQUE
END:VEVENT
END:VCALENDAR
