BEGIN:VCALENDAR
VERSION:2.0
PRODID:-//labri.fr//NONSGML kigkonsult.se iCalcreator 2.41.92//
CALSCALE:GREGORIAN
METHOD:PUBLISH
UID:dc8846dc-33a3-4281-9ad8-aa9560188016
X-WR-CALNAME:Manh Tu Vu's thesis: 'Deep learning for automatic facial expre
 ssion assessment with application to the expression of pain'
X-WR-TIMEZONE:Europe/Paris
BEGIN:VTIMEZONE
TZID:Europe/Paris
TZUNTIL:20241027T010000Z
BEGIN:STANDARD
TZNAME:CET
DTSTART:20221030T030000
TZOFFSETFROM:+0200
TZOFFSETTO:+0100
RDATE:20231029T030000
END:STANDARD
BEGIN:DAYLIGHT
TZNAME:CEST
DTSTART:20220327T020000
TZOFFSETFROM:+0100
TZOFFSETTO:+0200
RDATE:20230326T020000
RDATE:20240331T020000
END:DAYLIGHT
END:VTIMEZONE
BEGIN:VEVENT
UID:dc8846dc-33a3-4281-9ad8-aa9560188016
DTSTAMP:20260425T171847Z
CLASS:PUBLIC
DESCRIPTION:Manh Tu Vu (PhD student in the I&amp\;S department\, TAD team) 
 will submit his thesis entitled: 'Deep learning for automatic evaluation o
 f facial expressions with application to pain expression'.\n
DTSTART;TZID=Europe/Paris:20221213T140000
DTEND;TZID=Europe/Paris:20221213T180000
LOCATION:Amphi du LaBRI
ORGANIZER;CN=Marie Beurton-Aimar:mailto:marie.beurton@labri.fr
SEQUENCE:0
SUMMARY:Manh Tu Vu's thesis: 'Deep learning for automatic facial expression
  assessment with application to the expression of pain'
TRANSP:OPAQUE
END:VEVENT
END:VCALENDAR
