BEGIN:VCALENDAR
VERSION:2.0
PRODID:-//labri.fr//NONSGML kigkonsult.se iCalcreator 2.41.92//
CALSCALE:GREGORIAN
METHOD:PUBLISH
UID:4f929196-a3c4-441a-8e70-9529afc67181
X-WR-CALNAME:General Assembly followed by the LaBRI end-of-year party
X-WR-TIMEZONE:Europe/Paris
BEGIN:VTIMEZONE
TZID:Europe/Paris
TZUNTIL:20231029T010000Z
BEGIN:STANDARD
TZNAME:CET
DTSTART:20211031T030000
TZOFFSETFROM:+0200
TZOFFSETTO:+0100
RDATE:20221030T030000
END:STANDARD
BEGIN:DAYLIGHT
TZNAME:CEST
DTSTART:20210328T020000
TZOFFSETFROM:+0100
TZOFFSETTO:+0200
RDATE:20220327T020000
RDATE:20230326T020000
END:DAYLIGHT
END:VTIMEZONE
BEGIN:VEVENT
UID:4f929196-a3c4-441a-8e70-9529afc67181
DTSTAMP:20260425T171736Z
CLASS:PUBLIC
DESCRIPTION:Save the date: 2021\, November 26th for the LaBRI General Assem
 bly and Party\n
DTSTART;TZID=Europe/Paris:20211126T160000
DTEND;TZID=Europe/Paris:20211126T190000
LOCATION:Amphi LaBRI + Hall d’accueil + salle 76
ORGANIZER;CN=Auriane Dantès:mailto:auriane.dantes@labri.fr
SEQUENCE:0
SUMMARY:General Assembly followed by the LaBRI end-of-year party
TRANSP:OPAQUE
END:VEVENT
END:VCALENDAR
