BEGIN:VCALENDAR
VERSION:2.0
PRODID:-//labri.fr//NONSGML kigkonsult.se iCalcreator 2.41.92//
CALSCALE:GREGORIAN
METHOD:PUBLISH
UID:08954cb3-da06-453c-b4cf-89eba2d97479
X-WR-CALNAME:Florian Boyer's thesis: 'Speech recognition for French and int
 egration into a spoken language understanding system'
X-WR-TIMEZONE:Europe/Paris
BEGIN:VTIMEZONE
TZID:Europe/Paris
TZUNTIL:20231029T010000Z
BEGIN:STANDARD
TZNAME:CET
DTSTART:20201025T030000
TZOFFSETFROM:+0200
TZOFFSETTO:+0100
RDATE:20211031T030000
RDATE:20221030T030000
END:STANDARD
BEGIN:DAYLIGHT
TZNAME:CEST
DTSTART:20210328T020000
TZOFFSETFROM:+0100
TZOFFSETTO:+0200
RDATE:20220327T020000
RDATE:20230326T020000
END:DAYLIGHT
END:VTIMEZONE
BEGIN:VEVENT
UID:08954cb3-da06-453c-b4cf-89eba2d97479
DTSTAMP:20260425T162110Z
CLASS:PUBLIC
DESCRIPTION:Florian Boyer (I&amp\;S department) will present his thesis ent
 itled: 'Speech recognition for French and integration into a spoken langua
 ge understanding system'.\n
DTSTART;TZID=Europe/Paris:20211020T150000
DTEND;TZID=Europe/Paris:20211020T180000
LOCATION:Amphi LaBRI
SEQUENCE:0
SUMMARY:Florian Boyer's thesis: 'Speech recognition for French and integrat
 ion into a spoken language understanding system'
TRANSP:OPAQUE
END:VEVENT
END:VCALENDAR
