BEGIN:VCALENDAR
VERSION:2.0
PRODID:-//labri.fr//NONSGML kigkonsult.se iCalcreator 2.41.92//
CALSCALE:GREGORIAN
METHOD:PUBLISH
UID:8df97f56-a6cf-490a-a08b-920d60c6baa8
X-WR-CALNAME:Philippe Giraudeau PhD thesis: 'Tangible and augmented interac
 tions to discover\, understand and learn' – 14h
X-WR-TIMEZONE:Europe/Paris
BEGIN:VTIMEZONE
TZID:Europe/Paris
TZUNTIL:20221030T010000Z
BEGIN:STANDARD
TZNAME:CET
DTSTART:20201025T030000
TZOFFSETFROM:+0200
TZOFFSETTO:+0100
RDATE:20211031T030000
END:STANDARD
BEGIN:DAYLIGHT
TZNAME:CEST
DTSTART:20200329T020000
TZOFFSETFROM:+0100
TZOFFSETTO:+0200
RDATE:20210328T020000
RDATE:20220327T020000
END:DAYLIGHT
END:VTIMEZONE
BEGIN:VEVENT
UID:8df97f56-a6cf-490a-a08b-920d60c6baa8
DTSTAMP:20260425T180637Z
CLASS:PUBLIC
DESCRIPTION:Philippe Gireaudeau will defend her thesis entitled: 'Tangible 
 and augmented interactions to discover\, understand and learn'\n
DTSTART;TZID=Europe/Paris:20210322T090000
DTEND;TZID=Europe/Paris:20210322T190000
LOCATION:Inria : Salle Sophie Germain (Visioconférence)
SEQUENCE:0
SUMMARY:Philippe Giraudeau PhD thesis: 'Tangible and augmented interactions
  to discover\, understand and learn' – 14h
TRANSP:OPAQUE
END:VEVENT
END:VCALENDAR
