BEGIN:VCALENDAR
VERSION:2.0
PRODID:-//labri.fr//NONSGML kigkonsult.se iCalcreator 2.41.92//
CALSCALE:GREGORIAN
METHOD:PUBLISH
UID:ea801bbf-26a2-4302-83e3-8d64ed389ff9
X-WR-CALNAME:Maudeline Marlier's thesis defense
X-WR-TIMEZONE:Europe/Paris
BEGIN:VTIMEZONE
TZID:Europe/Paris
TZUNTIL:20261025T010000Z
BEGIN:STANDARD
TZNAME:CET
DTSTART:20241027T030000
TZOFFSETFROM:+0200
TZOFFSETTO:+0100
RDATE:20251026T030000
END:STANDARD
BEGIN:DAYLIGHT
TZNAME:CEST
DTSTART:20240331T020000
TZOFFSETFROM:+0100
TZOFFSETTO:+0200
RDATE:20250330T020000
RDATE:20260329T020000
END:DAYLIGHT
END:VTIMEZONE
BEGIN:VEVENT
UID:ea801bbf-26a2-4302-83e3-8d64ed389ff9
DTSTAMP:20260425T162241Z
CLASS:PUBLIC
DESCRIPTION:Maudeline Marlier will defend her thesis (co-tutelle with Inria
  Saclay)\, on March 03\, 2024 at 2pm\, in the Ada Lovelace room (Inria).Th
 e title of her thesis is: “Tangible interactions for rail operations in op
 erational centers”.&nbsp\;
DTSTART;TZID=Europe/Paris:20250303T140000
DTEND;TZID=Europe/Paris:20250303T170000
LOCATION:Salle Ada Lovelace (Inria)
SEQUENCE:0
SUMMARY:Maudeline Marlier's thesis defense
TRANSP:OPAQUE
END:VEVENT
END:VCALENDAR
